BEGIN:VCALENDAR
VERSION:2.0
PRODID:-//Anglerclub Niederlahnstein - ECPv6.13.1//NONSGML v1.0//EN
CALSCALE:GREGORIAN
METHOD:PUBLISH
X-WR-CALNAME:Anglerclub Niederlahnstein
X-ORIGINAL-URL:https://acn-lahnstein.de
X-WR-CALDESC:Veranstaltungen für Anglerclub Niederlahnstein
REFRESH-INTERVAL;VALUE=DURATION:PT1H
X-Robots-Tag:noindex
X-PUBLISHED-TTL:PT1H
BEGIN:VTIMEZONE
TZID:Europe/Berlin
BEGIN:DAYLIGHT
TZOFFSETFROM:+0100
TZOFFSETTO:+0200
TZNAME:CEST
DTSTART:20260329T010000
END:DAYLIGHT
BEGIN:STANDARD
TZOFFSETFROM:+0200
TZOFFSETTO:+0100
TZNAME:CET
DTSTART:20261025T010000
END:STANDARD
END:VTIMEZONE
BEGIN:VEVENT
DTSTART;TZID=Europe/Berlin:20260822T090000
DTEND;TZID=Europe/Berlin:20260822T120000
DTSTAMP:20260424T180301
CREATED:20250504T085027Z
LAST-MODIFIED:20251227T115917Z
UID:1390-1787389200-1787400000@acn-lahnstein.de
SUMMARY:Damenfischen
DESCRIPTION:Ausschreibung_Damenfischen
URL:https://acn-lahnstein.de/event/damenfischen/
LOCATION:Wolle’s Angelrevier\, Vallendar\, CM2C+R6\, Vallendar\, Rheinland-Pfalz\, 56179\, Germany
CATEGORIES:ACN
END:VEVENT
BEGIN:VEVENT
DTSTART;TZID=Europe/Berlin:20260829T080000
DTEND;TZID=Europe/Berlin:20260829T120000
DTSTAMP:20260424T180301
CREATED:20211122T143004Z
LAST-MODIFIED:20251227T120000Z
UID:375-1787990400-1788004800@acn-lahnstein.de
SUMMARY:Tandemfischen
DESCRIPTION:Ausschreibung_Tandemfischen
URL:https://acn-lahnstein.de/event/tandemfischen/
LOCATION:Anglerheim Lahnstein\, Auf Ahl 4\, Lahnstein\, 56112
CATEGORIES:ACN
END:VEVENT
BEGIN:VEVENT
DTSTART;TZID=Europe/Berlin:20260905T080000
DTEND;TZID=Europe/Berlin:20260905T170000
DTSTAMP:20260424T180301
CREATED:20231204T165614Z
LAST-MODIFIED:20251227T120030Z
UID:1086-1788595200-1788627600@acn-lahnstein.de
SUMMARY:Vorstandsklausur
DESCRIPTION:Es ergeht eine gesonderte Einladung
URL:https://acn-lahnstein.de/event/vorstandsklausur-2/
END:VEVENT
BEGIN:VEVENT
DTSTART;TZID=Europe/Berlin:20260919T120000
DTEND;TZID=Europe/Berlin:20260919T180000
DTSTAMP:20260424T180301
CREATED:20210313T144424Z
LAST-MODIFIED:20251227T120105Z
UID:213-1789819200-1789840800@acn-lahnstein.de
SUMMARY:Abfischen
DESCRIPTION:Ausschreibung_Abfischen
URL:https://acn-lahnstein.de/event/abfischen/
LOCATION:Anglerheim Lahnstein\, Auf Ahl 4\, Lahnstein\, 56112
CATEGORIES:ACN
END:VEVENT
BEGIN:VEVENT
DTSTART;TZID=Europe/Berlin:20261004T100000
DTEND;TZID=Europe/Berlin:20261004T160000
DTSTAMP:20260424T180301
CREATED:20210313T144536Z
LAST-MODIFIED:20251227T120157Z
UID:217-1791108000-1791129600@acn-lahnstein.de
SUMMARY:Lochfischen an der Schleuse Niederlahnstein
DESCRIPTION:Ausschreibung_Lochfischen
URL:https://acn-lahnstein.de/event/lochfischen/
LOCATION:Schleuse Niederlahnstein\, Zur Schleuse\, Lahnstein\, 56112\, Deutschland
CATEGORIES:ACN
END:VEVENT
BEGIN:VEVENT
DTSTART;TZID=Europe/Berlin:20261120T190000
DTEND;TZID=Europe/Berlin:20261120T230000
DTSTAMP:20260424T180301
CREATED:20210313T144350Z
LAST-MODIFIED:20251227T120225Z
UID:211-1795201200-1795215600@acn-lahnstein.de
SUMMARY:ACN Vorstandssitzung
DESCRIPTION:Es ergeht eine gesonderte Einladung
URL:https://acn-lahnstein.de/event/vorstandsklausur/
LOCATION:Anglerheim Lahnstein\, Auf Ahl 4\, Lahnstein\, 56112
CATEGORIES:ACN
END:VEVENT
BEGIN:VEVENT
DTSTART;TZID=Europe/Berlin:20261122T100000
DTEND;TZID=Europe/Berlin:20261122T120000
DTSTAMP:20260424T180301
CREATED:20210313T144653Z
LAST-MODIFIED:20251227T120308Z
UID:221-1795341600-1795348800@acn-lahnstein.de
SUMMARY:ACN-Totenehrung
DESCRIPTION:
URL:https://acn-lahnstein.de/event/totenehrung/
LOCATION:Alter Friedhof Niederlahnstein\, Allerheiligenbergstraße\, Lahnstein\, 56112\, Deutschland
CATEGORIES:ACN
END:VEVENT
BEGIN:VEVENT
DTSTART;TZID=Europe/Berlin:20261124T190000
DTEND;TZID=Europe/Berlin:20261124T210000
DTSTAMP:20260424T180302
CREATED:20211122T143609Z
LAST-MODIFIED:20251227T120331Z
UID:378-1795546800-1795554000@acn-lahnstein.de
SUMMARY:Vorstandssitzung des Stadtverbands der Lahnsteiner Angelvereine
DESCRIPTION:
URL:https://acn-lahnstein.de/event/vorstandssitzung-der-lahnsteiner-angelvereine-2/
CATEGORIES:ACN
END:VEVENT
END:VCALENDAR