BEGIN:VCALENDAR
VERSION:2.0
PRODID:-//Anglerclub Niederlahnstein - ECPv6.13.1//NONSGML v1.0//EN
CALSCALE:GREGORIAN
METHOD:PUBLISH
X-ORIGINAL-URL:https://acn-lahnstein.de
X-WR-CALDESC:Veranstaltungen für Anglerclub Niederlahnstein
REFRESH-INTERVAL;VALUE=DURATION:PT1H
X-Robots-Tag:noindex
X-PUBLISHED-TTL:PT1H
BEGIN:VTIMEZONE
TZID:Europe/Berlin
BEGIN:DAYLIGHT
TZOFFSETFROM:+0100
TZOFFSETTO:+0200
TZNAME:CEST
DTSTART:20230326T010000
END:DAYLIGHT
BEGIN:STANDARD
TZOFFSETFROM:+0200
TZOFFSETTO:+0100
TZNAME:CET
DTSTART:20231029T010000
END:STANDARD
BEGIN:DAYLIGHT
TZOFFSETFROM:+0100
TZOFFSETTO:+0200
TZNAME:CEST
DTSTART:20240331T010000
END:DAYLIGHT
BEGIN:STANDARD
TZOFFSETFROM:+0200
TZOFFSETTO:+0100
TZNAME:CET
DTSTART:20241027T010000
END:STANDARD
BEGIN:DAYLIGHT
TZOFFSETFROM:+0100
TZOFFSETTO:+0200
TZNAME:CEST
DTSTART:20250330T010000
END:DAYLIGHT
BEGIN:STANDARD
TZOFFSETFROM:+0200
TZOFFSETTO:+0100
TZNAME:CET
DTSTART:20251026T010000
END:STANDARD
BEGIN:DAYLIGHT
TZOFFSETFROM:+0100
TZOFFSETTO:+0200
TZNAME:CEST
DTSTART:20260329T010000
END:DAYLIGHT
BEGIN:STANDARD
TZOFFSETFROM:+0200
TZOFFSETTO:+0100
TZNAME:CET
DTSTART:20261025T010000
END:STANDARD
END:VTIMEZONE
BEGIN:VEVENT
DTSTART;TZID=Europe/Berlin:20260410T160000
DTEND;TZID=Europe/Berlin:20260410T210000
DTSTAMP:20260424T180547
CREATED:20210313T142206Z
LAST-MODIFIED:20251212T153647Z
UID:192-1775836800-1775854800@acn-lahnstein.de
SUMMARY:Lahnsteiner Gespräche
DESCRIPTION:Es ergeht eine gesonderte Einladung
URL:https://acn-lahnstein.de/event/lahnsteiner-gespraeche/
LOCATION:Anglerheim Lahnstein\, Auf Ahl 4\, Lahnstein\, 56112
END:VEVENT
BEGIN:VEVENT
DTSTART;TZID=Europe/Berlin:20260410T160000
DTEND;TZID=Europe/Berlin:20260410T180000
DTSTAMP:20260424T180547
CREATED:20260304T170924Z
LAST-MODIFIED:20260410T163923Z
UID:1708-1775836800-1775844000@acn-lahnstein.de
SUMMARY:29. Lahnsteiner Gespräche
DESCRIPTION:
URL:https://acn-lahnstein.de/event/29-lahnsteiner-gespraeche/
LOCATION:Anglerheim Lahnstein\, Auf Ahl 4\, Lahnstein\, 56112
CATEGORIES:ACN,BSV
END:VEVENT
BEGIN:VEVENT
DTSTART;TZID=Europe/Berlin:20260405T110000
DTEND;TZID=Europe/Berlin:20260405T170000
DTSTAMP:20260424T180547
CREATED:20260304T170707Z
LAST-MODIFIED:20260304T170707Z
UID:1706-1775386800-1775408400@acn-lahnstein.de
SUMMARY:Ostereiersuchen der Jugendgruppe
DESCRIPTION:
URL:https://acn-lahnstein.de/event/ostereiersuchen-der-jugendgruppe/
LOCATION:Anglerheim Lahnstein\, Auf Ahl 4\, Lahnstein\, 56112
CATEGORIES:ACN
END:VEVENT
BEGIN:VEVENT
DTSTART;TZID=Europe/Berlin:20260321T140000
DTEND;TZID=Europe/Berlin:20260321T170000
DTSTAMP:20260424T180547
CREATED:20221206T170921Z
LAST-MODIFIED:20251212T153559Z
UID:554-1774101600-1774112400@acn-lahnstein.de
SUMMARY:Jahreshauptversammlung des BSV in Lahnstein
DESCRIPTION:
URL:https://acn-lahnstein.de/event/jahreshauptversammlung-des-bsv-in-lahnstein/
LOCATION:Anglerheim Lahnstein\, Auf Ahl 4\, Lahnstein\, 56112
CATEGORIES:ACN,BSV
END:VEVENT
BEGIN:VEVENT
DTSTART;TZID=Europe/Berlin:20260104T110000
DTEND;TZID=Europe/Berlin:20260104T130000
DTSTAMP:20260424T180547
CREATED:20221206T170110Z
LAST-MODIFIED:20251212T153446Z
UID:544-1767524400-1767531600@acn-lahnstein.de
SUMMARY:Verkauf der Angelscheine
DESCRIPTION:
URL:https://acn-lahnstein.de/event/verkauf-der-angelscheine-2/
LOCATION:Anglerheim Lahnstein\, Auf Ahl 4\, Lahnstein\, 56112
CATEGORIES:ACN
END:VEVENT
BEGIN:VEVENT
DTSTART;TZID=Europe/Berlin:20251116T080000
DTEND;TZID=Europe/Berlin:20251116T170000
DTSTAMP:20260424T180547
CREATED:20240427T133255Z
LAST-MODIFIED:20250507T114608Z
UID:1149-1763280000-1763312400@acn-lahnstein.de
SUMMARY:BSV Senioren Königsfischen Forelle
DESCRIPTION:Veranstaltung: BSV Koblenz Senioren Königsfischen FORELLE \nGastgeber: BSV Koblenz  \nGewässer: wird bei Anmeldung ab Oktober bekannt gegeben \nOrt und Zeitpunkt: 16.11.2025 Fischzucht Weller \nAngelzeit: 9:30 – 13:30 Uhr \nBehandlung des Fanges: Lebendhälterung wenn möglich  \nZugelassenes Gerät: unberingte und beringte Handrute Posen- als auch Grundmontagen sind zugelassen \nZugelassene Köder: Alle natürlichen Köder  \nGewertete Fischarten: Mindestmaße sind zu beachten! Geschonte oder untermaßige Fische \nwelche gehältert werden führen zu einer sofortigen Disqualifikation. \nFutter: kein Futter \nTeilnahmegebühr: 20 € je Teilnehmer  \nAnmeldeschluss: 1.11.2025 \nDie Startgebühren sind dringend via Überweisung auf das Konto \nBSV Sport \nDE34570928000204170410 zu überweisen nach der Anmeldung
URL:https://acn-lahnstein.de/event/bsv-senioren-koenigsfischen-forelle/
LOCATION:Fischzucht Weller\, Aubachstrasse 85\, Neuwied\, Rheinland Pfalz\, 56567\, Germany
CATEGORIES:BSV
ORGANIZER;CN="BSV Koblenz - Sportwart":MAILTO:sportwart@bezirks-sportfischerverband-koblenz.de
END:VEVENT
BEGIN:VEVENT
DTSTART;TZID=Europe/Berlin:20251026T080000
DTEND;TZID=Europe/Berlin:20251026T170000
DTSTAMP:20260424T180547
CREATED:20240427T133037Z
LAST-MODIFIED:20250507T114329Z
UID:1146-1761465600-1761498000@acn-lahnstein.de
SUMMARY:BSV Senioren Tandemfischen
DESCRIPTION:Veranstaltung: BSV Koblenz Senioren Tandem Fließwasser 2024 \nGastgeber: BSV Koblenz in Verbindung \nGewässer: Rhein bei Sankt Sebastian \nOrt und Zeitpunkt: 26.10.2025 Autobahnbrücke Sankt Sebastian \nAngelzeit: 9:30 – 13:30 Uhr \nBehandlung des Fanges: Lebenhälterung wenn möglich – Die Fische werden umgesetzt und sind entsprechend zu behandeln \nZugelassenes Gerät: unberingte und beringte Handrute Posen- als auch Grundmontagen sind zugelassen \nZugelassene Köder: Alle natürlichen Köder  \nGewertete Fischarten: Mindestmaße sind zu beachten! Geschonte oder untermaßige Fische \nwelche gehältert werden führen zu einer sofortigen Disqualifikation. \nFutter: kein rotes Futter\, 8l nass \nTeilnahmegebühr: 15 € je Teilnehmer zzgl. Tagesschein \nAnmeldeschluss: 1.10.2025
URL:https://acn-lahnstein.de/event/bsv-senioren-tandemfischen/
LOCATION:Autobahnbrücke\, St. Sebastian\, CH49+VX\, Sankt Sebastian\, Rheinland Pfalz\, 56220\, Germany
CATEGORIES:BSV
ORGANIZER;CN="BSV Koblenz - Sportwart":MAILTO:sportwart@bezirks-sportfischerverband-koblenz.de
END:VEVENT
BEGIN:VEVENT
DTSTART;TZID=Europe/Berlin:20250928T080000
DTEND;TZID=Europe/Berlin:20250928T150000
DTSTAMP:20260424T180547
CREATED:20240426T142652Z
LAST-MODIFIED:20241224T103540Z
UID:1137-1759046400-1759071600@acn-lahnstein.de
SUMMARY:BSV Gemeinschaftsfischen Stillwasser Jugend
DESCRIPTION:Ausschreibung Stillwasser 2025 \nWegbeschreibung zum Röserweiher findet Ihr auf http://www.asvmk.de/html/anfahrt.html
URL:https://acn-lahnstein.de/event/gemeinschaftsfischen-stillwasser-jugend/
LOCATION:Röserweiher\, Landstrasse\, Mülheim Kärlich\, Rheinland Pfalz\, 56218\, Germany
CATEGORIES:BSV
ORGANIZER;CN="BSV Koblenz - Jugendwart":MAILTO:jugendwart@bezirks-sportfischerverband-koblenz.de
END:VEVENT
BEGIN:VEVENT
DTSTART;TZID=Europe/Berlin:20250921T080000
DTEND;TZID=Europe/Berlin:20250921T170000
DTSTAMP:20260424T180547
CREATED:20241224T104200Z
LAST-MODIFIED:20250507T113938Z
UID:1338-1758441600-1758474000@acn-lahnstein.de
SUMMARY:BSV Gemeinschaftsfischen Fliesswasser Senioren
DESCRIPTION:Veranstaltung: BSV Koblenz Senioren Fließwasser 2024 \nGastgeber: BSV Koblenz \nGewässer: Rhein bei Brohl – je nach Wasserstand – zum Strom hin \nOrt und Zeitpunkt: 21.09.2025 Rhein / Brohler Hafen am Imbiss \nAngelzeit: 9:00 – 13:00 Uhr \nBehandlung des Fanges: Lebendhälterung wenn möglich – Die Fische werden umgesetzt und sind entsprechend zu behandeln \nZugelassenes Gerät: unberingte und beringte Handrute Posen- als auch Grundmontagen sind zugelassen \nZugelassene Köder: Alle natürlichen Köder  \nGewertete Fischarten: Mindestmaße sind zu beachten! Geschonte oder untermaßige Fische welche \ngehältert werden führen zu einer sofortigen Disqualifikation. \nFutter: kein rotes Futter\, 8l nass \nTeilnahmegebühr: 15 € je Teilnehmer zzgl. Tagesschein \nAnmeldeschluss: 1.09.2024
URL:https://acn-lahnstein.de/event/bsv-gemeinschaftsfischen-fliesswasser-senioren/
LOCATION:Brohler Hafen\, F8QH+48\, Brohl\, Rheinland Pfalz\, 56656\, Germany
CATEGORIES:BSV
ORGANIZER;CN="BSV Koblenz - Sportwart":MAILTO:sportwart@bezirks-sportfischerverband-koblenz.de
END:VEVENT
BEGIN:VEVENT
DTSTART;TZID=Europe/Berlin:20250914T090000
DTEND;TZID=Europe/Berlin:20250914T160000
DTSTAMP:20260424T180547
CREATED:20250812T090223Z
LAST-MODIFIED:20250812T090223Z
UID:1487-1757840400-1757865600@acn-lahnstein.de
SUMMARY:2. Pokal-Angeln der ACN Jugendgruppe an der Lahn
DESCRIPTION:
URL:https://acn-lahnstein.de/event/2-pokal-angeln-der-acn-jugendgruppe-an-der-lahn/
LOCATION:Anglerheim Lahnstein\, Auf Ahl 4\, Lahnstein\, 56112
CATEGORIES:ACN
END:VEVENT
BEGIN:VEVENT
DTSTART;TZID=Europe/Berlin:20250719T180000
DTEND;TZID=Europe/Berlin:20250719T223000
DTSTAMP:20260424T180547
CREATED:20250615T092531Z
LAST-MODIFIED:20250615T092531Z
UID:1434-1752948000-1752964200@acn-lahnstein.de
SUMMARY:Nachtangeln der ACN Jugend 
DESCRIPTION:
URL:https://acn-lahnstein.de/event/nachtangeln-der-acn-jugend/
LOCATION:Anglerheim Lahnstein\, Auf Ahl 4\, Lahnstein\, 56112
CATEGORIES:ACN
END:VEVENT
BEGIN:VEVENT
DTSTART;TZID=Europe/Berlin:20250601T080000
DTEND;TZID=Europe/Berlin:20250601T120000
DTSTAMP:20260424T180547
CREATED:20250503T154320Z
LAST-MODIFIED:20250503T172742Z
UID:1384-1748764800-1748779200@acn-lahnstein.de
SUMMARY:Jugend Forellenangeln
DESCRIPTION:Es wird um vorherige Anmeldung gebeten.
URL:https://acn-lahnstein.de/event/jugend-forellenangeln/
LOCATION:Wolle’s Angelrevier\, Vallendar\, CM2C+R6\, Vallendar\, Rheinland-Pfalz\, 56179\, Germany
CATEGORIES:ACN
END:VEVENT
BEGIN:VEVENT
DTSTART;TZID=Europe/Berlin:20250518T080000
DTEND;TZID=Europe/Berlin:20250518T170000
DTSTAMP:20260424T180547
CREATED:20241224T104117Z
LAST-MODIFIED:20250507T113231Z
UID:1336-1747555200-1747587600@acn-lahnstein.de
SUMMARY:BSV Gemeinschaftsfischen Stillwasser Senioren
DESCRIPTION:Veranstaltung: BSV Koblenz Senioren Stillwasser 2025 \nGastgeber: BSV Koblenz \nGewässer:  Silbersee Wirges \nOrt und Zeitpunkt: 18.05.2025 \nAngelzeit: 9:30 – 13:30 Uhr \nBehandlung des Fanges: Lebendhälterung – Die Fische werden umgesetzt und sind entsprechend zu \nbehandeln \nZugelassenes Gerät: unberingte und beringte Handrute Posen- als auch Grundmontagen sind zugelassen \nZugelassene Köder: Alle natürlichen Köder ausgenommen gefärbte Maden \nMindestmaße sind zu beachten! Geschonte oder untermaßige Fische welche \ngehältert werden führen zu einer sofortigen Disqualifikation. \nFutter: 3l nass \nTeilnahmegebühr: 15 € je Teilnehmer zzgl. Tagesschein \nAnmeldeschluss: 01.05.2025
URL:https://acn-lahnstein.de/event/bsv-gemeinschaftsfischen-stillwasser-senioren/
LOCATION:Silbersee\, Wirges\, FQFM+HX8\, Siershahn\, Rheinland Pfalz\, 56427\, Germany
CATEGORIES:BSV
ORGANIZER;CN="BSV Koblenz - Sportwart":MAILTO:sportwart@bezirks-sportfischerverband-koblenz.de
END:VEVENT
BEGIN:VEVENT
DTSTART;TZID=Europe/Berlin:20250427T080000
DTEND;TZID=Europe/Berlin:20250427T150000
DTSTAMP:20260424T180547
CREATED:20240426T142530Z
LAST-MODIFIED:20241224T103057Z
UID:1135-1745740800-1745766000@acn-lahnstein.de
SUMMARY:BSV Gemeinschaftsfischen Forellen Jugend
DESCRIPTION:Ausschreibung Forellenangeln 2025
URL:https://acn-lahnstein.de/event/bsv-gemeinschaftsfischen-forellen-jugend/
LOCATION:Fischzucht Weller\, Aubachstrasse 85\, Neuwied\, Rheinland Pfalz\, 56567\, Germany
CATEGORIES:BSV
ORGANIZER;CN="BSV Koblenz - Jugendwart":MAILTO:jugendwart@bezirks-sportfischerverband-koblenz.de
END:VEVENT
BEGIN:VEVENT
DTSTART;TZID=Europe/Berlin:20250420T140000
DTEND;TZID=Europe/Berlin:20250420T170000
DTSTAMP:20260424T180547
CREATED:20250403T090600Z
LAST-MODIFIED:20250403T090653Z
UID:1346-1745157600-1745168400@acn-lahnstein.de
SUMMARY:Traditionelles Ostereiersuchen der ACN-Jugend
DESCRIPTION:Um rechtzeitige Voranmeldung beim Jugendwart wird gebeten
URL:https://acn-lahnstein.de/event/traditionelles-ostereiersuchen-der-acn-jugend/
LOCATION:Anglerheim Lahnstein\, Auf Ahl 4\, Lahnstein\, 56112
CATEGORIES:ACN
END:VEVENT
BEGIN:VEVENT
DTSTART;TZID=Europe/Berlin:20241207T140000
DTEND;TZID=Europe/Berlin:20241207T170000
DTSTAMP:20260424T180547
CREATED:20241114T152733Z
LAST-MODIFIED:20241114T152733Z
UID:1313-1733580000-1733590800@acn-lahnstein.de
SUMMARY:Nikolaus- / Jahresabschlussfeier der Jugend am 07.12.2024
DESCRIPTION:
URL:https://acn-lahnstein.de/event/nikolaus-jahresabschlussfeier-der-jugend-am-07-12-2024/
LOCATION:Anglerheim Lahnstein\, Auf Ahl 4\, Lahnstein\, 56112
CATEGORIES:ACN
END:VEVENT
BEGIN:VEVENT
DTSTART;TZID=Europe/Berlin:20241013T080000
DTEND;TZID=Europe/Berlin:20241013T150000
DTSTAMP:20260424T180547
CREATED:20240427T132907Z
LAST-MODIFIED:20240427T133122Z
UID:1144-1728806400-1728831600@acn-lahnstein.de
SUMMARY:BSV Senioren Gemeinschaftsfischen Fliesswasser
DESCRIPTION:Beginn 9:30 Uhr Treffen 8:00 Uhr Treffpunkt Brohler Hafen Imbiss \nAchtung es wird im Strom geangelt / Möglicher Wechsel aber zu Gretchens Garten
URL:https://acn-lahnstein.de/event/bsv-senioren-gemeinschaftsfischen-fliesswasser/
CATEGORIES:BSV
ORGANIZER;CN="BSV Koblenz - Sportwart":MAILTO:sportwart@bezirks-sportfischerverband-koblenz.de
END:VEVENT
BEGIN:VEVENT
DTSTART;TZID=Europe/Berlin:20240526T140000
DTEND;TZID=Europe/Berlin:20240526T170000
DTSTAMP:20260424T180547
CREATED:20240505T091856Z
LAST-MODIFIED:20240512T122939Z
UID:1169-1716732000-1716742800@acn-lahnstein.de
SUMMARY:Jugend - Nistkästen gestalten und aufhängen
DESCRIPTION:
URL:https://acn-lahnstein.de/event/jugend-nistkaesten-gestalten-und-aufhaengen/
LOCATION:Anglerheim Lahnstein\, Auf Ahl 4\, Lahnstein\, 56112
CATEGORIES:ACN
END:VEVENT
BEGIN:VEVENT
DTSTART;TZID=Europe/Berlin:20240331T140000
DTEND;TZID=Europe/Berlin:20240331T170000
DTSTAMP:20260424T180547
CREATED:20240303T154113Z
LAST-MODIFIED:20240303T154113Z
UID:1102-1711893600-1711904400@acn-lahnstein.de
SUMMARY:Treffen und Ostereiersuchen der Jugendgruppe
DESCRIPTION:
URL:https://acn-lahnstein.de/event/treffen-und-ostereiersuchen-der-jugendgruppe/
LOCATION:Anglerheim Lahnstein\, Auf Ahl 4\, Lahnstein\, 56112
CATEGORIES:ACN
END:VEVENT
BEGIN:VEVENT
DTSTART;TZID=Europe/Berlin:20240323T113000
DTEND;TZID=Europe/Berlin:20240323T130000
DTSTAMP:20260424T180547
CREATED:20221123T091937Z
LAST-MODIFIED:20240321T085039Z
UID:832-1711193400-1711198800@acn-lahnstein.de
SUMMARY:Präsidiumssitzung des BSV in Lahnstein
DESCRIPTION:
URL:https://acn-lahnstein.de/event/praesidiumssitzung/
CATEGORIES:BSV
END:VEVENT
BEGIN:VEVENT
DTSTART;TZID=Europe/Berlin:20231209T150000
DTEND;TZID=Europe/Berlin:20231209T180000
DTSTAMP:20260424T180547
CREATED:20231112T084910Z
LAST-MODIFIED:20231112T084910Z
UID:1063-1702134000-1702144800@acn-lahnstein.de
SUMMARY:Nikolausfeier der Jugendgruppe
DESCRIPTION:
URL:https://acn-lahnstein.de/event/nikolausfeier-der-jugendgruppe/
LOCATION:Anglerheim Lahnstein\, Auf Ahl 4\, Lahnstein\, 56112
END:VEVENT
BEGIN:VEVENT
DTSTART;TZID=Europe/Berlin:20231112T080000
DTEND;TZID=Europe/Berlin:20231112T150000
DTSTAMP:20260424T180547
CREATED:20230204T131837Z
LAST-MODIFIED:20230424T172708Z
UID:867-1699776000-1699801200@acn-lahnstein.de
SUMMARY:Gemeinschaftsfischen BSV Koblenz Senioren Königsfischen FORELLE
DESCRIPTION:Gastgeber: BSV Koblenz  \nGewässer: wird bei Anmeldung ab Oktober bekannt gegeben \nZeitpunkt: 12.11.2023  \nAngelzeit: 9:30 – 13:30 Uhr Treffen: 8 Uhr \nBehandlung des Fanges: Lebenhälterung wenn möglich – Die Fische werden umgesetzt und sind entsprechend zu behandeln \nZugelassenes Gerät: unberingte und beringte Handrute Posen- als auch Grundmontagen sind zugelassen \nZugelassene Köder: Alle natürlichen Köder  \nGewertete Fischarten: Mindestmaße sind zu beachten! Geschonte oder untermaßige Fische \nwelche gehältert werden führen zu einer sofortigen Disqualifikation. \nFutter: kein Futter \nTeilnahmegebühr: 20 € je Teilnehmer  \nAnmeldeschluss: 25.10.2022 \nDie Startgebühren sind dringend via Überweisung auf das Konto \nBSV Sport \nDE34570928000204170410 zu überweisen nach der Anmeldung
URL:https://acn-lahnstein.de/event/bsv-koblenz-senioren-koenigsfischen-forelle/
CATEGORIES:BSV
END:VEVENT
BEGIN:VEVENT
DTSTART;TZID=Europe/Berlin:20231029T080000
DTEND;TZID=Europe/Berlin:20231029T150000
DTSTAMP:20260424T180547
CREATED:20230204T131646Z
LAST-MODIFIED:20230424T172720Z
UID:865-1698566400-1698591600@acn-lahnstein.de
SUMMARY:Gemeinschaftsfischen BSV Koblenz Senioren Tandem Fließwasser 2023
DESCRIPTION:Gastgeber: BSV Koblenz in Verbindung \nGewässer: Rhein bei Sankt Sebastian \nOrt und Zeitpunkt: 29.10.2023 Autobahnbrücke Sankt Sebastian \nAngelzeit: 9:30 – 13:30 Uhr Treffen: 8 Uhr \nBehandlung des Fanges: Lebenhälterung wenn möglich – Die Fische werden umgesetzt und sind entsprechend zu behandeln \nZugelassenes Gerät: unberingte und beringte Handrute Posen- als auch Grundmontagen sind zugelassen \nZugelassene Köder: Alle natürlichen Köder  \nGewertete Fischarten: Mindestmaße sind zu beachten! Geschonte oder untermaßige Fische \nwelche gehältert werden führen zu einer sofortigen Disqualifikation. \nFutter: kein rotes Futter\, 8l nass \nTeilnahmegebühr: 15 € je Teilnehmer zzgl. Tagesschein \nAnmeldeschluss: 16.10.2023 \nDie Startgebühren sind dringend via Überweisung auf das Konto \nBSV Sport \nDE34570928000204170410 zu überweisen nach der Anmeldung
URL:https://acn-lahnstein.de/event/bsv-koblenz-senioren-tandem-fliesswasser-2023/
LOCATION:Lebensqualität
CATEGORIES:BSV
END:VEVENT
BEGIN:VEVENT
DTSTART;TZID=Europe/Berlin:20231007T143000
DTEND;TZID=Europe/Berlin:20231007T170000
DTSTAMP:20260424T180547
CREATED:20230910T152434Z
LAST-MODIFIED:20230910T152434Z
UID:1026-1696689000-1696698000@acn-lahnstein.de
SUMMARY:Treffen der Jugendgruppe
DESCRIPTION:
URL:https://acn-lahnstein.de/event/treffen-der-jugendgruppe-4/
LOCATION:Anglerheim Lahnstein\, Auf Ahl 4\, Lahnstein\, 56112
CATEGORIES:ACN
END:VEVENT
BEGIN:VEVENT
DTSTART;TZID=Europe/Berlin:20230924T080000
DTEND;TZID=Europe/Berlin:20230924T150000
DTSTAMP:20260424T180547
CREATED:20230204T131452Z
LAST-MODIFIED:20230424T172730Z
UID:863-1695542400-1695567600@acn-lahnstein.de
SUMMARY:Gemeinschaftsfischen BSV Koblenz Senioren Fließwasser 2023
DESCRIPTION:Gastgeber: BSV Koblenz \nGewässer: Rhein bei Brohl – je nach Wasserstand – zum Strom hin \nOrt und Zeitpunkt: 24.09.2023 Rhein / Brohler Hafen am Imbiss \nAngelzeit: 9:30 – 13:00 Uhr  Treffen: 8 Uhr \nBehandlung des Fanges: Lebendhälterung  wenn möglich – Die Fische werden umgesetzt und sind entsprechend zu behandeln \nZugelassenes Gerät: unberingte und beringte Handrute Posen- als auch Grundmontagen sind zugelassen \nZugelassene Köder: Alle natürlichen Köder  \nGewertete Fischarten: Mindestmaße sind zu beachten! Geschonte oder untermaßige Fische welche \ngehältert werden führen zu einer sofortigen Disqualifikation. \nFutter: kein rotes Futter\, 8l nass \nTeilnahmegebühr: 15 € je Teilnehmer zzgl. Tagesschein \nAnmeldeschluss: 10.10.2023
URL:https://acn-lahnstein.de/event/bsv-koblenz-senioren-fliesswasser-2023/
LOCATION:Wahlprüfsteine des DAFV zur Bundestagswahl 2021
CATEGORIES:BSV
END:VEVENT
BEGIN:VEVENT
DTSTART;TZID=Europe/Berlin:20230903T090000
DTEND;TZID=Europe/Berlin:20230903T150000
DTSTAMP:20260424T180547
CREATED:20230204T132634Z
LAST-MODIFIED:20230424T172741Z
UID:874-1693731600-1693753200@acn-lahnstein.de
SUMMARY:Gemeinschaftsfischen Jugend Stillwasser
DESCRIPTION:Einladung zum Gemeinschaftsfischen nach gültigen Leitlinien \n\n\n\n\nArt der Veranstaltung: Einladender Verband/Verein: Gewässer:\nOrt und Treffpunkt: Angelzeit:\nBehandlung des Fanges: \nZugelassenes Gerät: Zugelassene Köder: \nGewertete Fischarten: \nFutter:\nGebühren:\nGebühren für nicht Mitglieder: \nAnmeldeschluss: 01.08.2023 \n\n\nBSV Stillwasser\nBSV Koblenz/ASV Mühlheim-Kärlich\nASV Mühlheim-Kärlich /\nRöser Weiher am 03.09.2023 um 9 Uhr\n10 Uhr bis 14 Uhr (4 Stunden)\nFische werden lebend gehältert und anschließend umgesetzt Setzkescher von mindestens 3\,50m mitbringen.\nEine Feeder- oder Grundrute oder Posenrute\nAlle natürlichen Köder außer gefärbte Maden\nBoilies und Pellets sind zugelassen\nKarpfen\, Schleien\,Rotaugen\, Rotfedern\, Döbel\,Güster\,Brassen\,Grundeln\nFuttermenge: 2kg ohne Färbung\n5€ pro Teilnehmer\n10€ pro Teilnehmer \n\n\n\n\nFür Essen und Trinken wird gesorgt\nWegbeschreibung zum Röserweiher findet Ihr auf http://www.asvmk.de/html/anfahrt.html
URL:https://acn-lahnstein.de/event/gemeinschaftsfischen-jugend-stillwasser/
CATEGORIES:BSV
END:VEVENT
BEGIN:VEVENT
DTSTART;TZID=Europe/Berlin:20230902T143000
DTEND;TZID=Europe/Berlin:20230902T173000
DTSTAMP:20260424T180547
CREATED:20230822T160047Z
LAST-MODIFIED:20230822T160047Z
UID:1003-1693665000-1693675800@acn-lahnstein.de
SUMMARY:Treffen der Jugendgruppe
DESCRIPTION:Treffpunkt am Anglerheim 
URL:https://acn-lahnstein.de/event/treffen-der-jugendgruppe-3/
LOCATION:Anglerheim Lahnstein\, Auf Ahl 4\, Lahnstein\, 56112
CATEGORIES:ACN
END:VEVENT
BEGIN:VEVENT
DTSTART;TZID=Europe/Berlin:20230805T143000
DTEND;TZID=Europe/Berlin:20230805T163000
DTSTAMP:20260424T180547
CREATED:20230716T091900Z
LAST-MODIFIED:20230716T091937Z
UID:941-1691245800-1691253000@acn-lahnstein.de
SUMMARY:Treffen der Jugendgruppe
DESCRIPTION:
URL:https://acn-lahnstein.de/event/treffen-der-jugendgruppe-2/
LOCATION:Anglerheim Lahnstein\, Auf Ahl 4\, Lahnstein\, 56112
CATEGORIES:ACN
END:VEVENT
BEGIN:VEVENT
DTSTART;TZID=Europe/Berlin:20230715T160000
DTEND;TZID=Europe/Berlin:20230715T170000
DTSTAMP:20260424T180547
CREATED:20230522T173022Z
LAST-MODIFIED:20230522T173050Z
UID:915-1689436800-1689440400@acn-lahnstein.de
SUMMARY:Infos zum Meeresfischen 2024
DESCRIPTION:Informationsveranstaltung zum geplanten Meeresfischen 2024 auf den Lofoten
URL:https://acn-lahnstein.de/event/infos-zum-meeresfischen-2024/
LOCATION:Anglerheim Lahnstein\, Auf Ahl 4\, Lahnstein\, 56112
CATEGORIES:ACN
END:VEVENT
BEGIN:VEVENT
DTSTART;TZID=Europe/Berlin:20230520T140000
DTEND;TZID=Europe/Berlin:20230520T180000
DTSTAMP:20260424T180547
CREATED:20230424T170554Z
LAST-MODIFIED:20230424T170650Z
UID:615-1684591200-1684605600@acn-lahnstein.de
SUMMARY:Treffen der Jugendgruppe
DESCRIPTION:
URL:https://acn-lahnstein.de/event/treffen-der-jugendgruppe/
LOCATION:Anglerheim Lahnstein\, Auf Ahl 4\, Lahnstein\, 56112
CATEGORIES:ACN
END:VEVENT
END:VCALENDAR