BEGIN:VCALENDAR
VERSION:2.0
PRODID:-//Anglerclub Niederlahnstein - ECPv6.13.1//NONSGML v1.0//EN
CALSCALE:GREGORIAN
METHOD:PUBLISH
X-WR-CALNAME:Anglerclub Niederlahnstein
X-ORIGINAL-URL:https://acn-lahnstein.de
X-WR-CALDESC:Veranstaltungen für Anglerclub Niederlahnstein
REFRESH-INTERVAL;VALUE=DURATION:PT1H
X-Robots-Tag:noindex
X-PUBLISHED-TTL:PT1H
BEGIN:VTIMEZONE
TZID:Europe/Berlin
BEGIN:DAYLIGHT
TZOFFSETFROM:+0100
TZOFFSETTO:+0200
TZNAME:CEST
DTSTART:20260329T010000
END:DAYLIGHT
BEGIN:STANDARD
TZOFFSETFROM:+0200
TZOFFSETTO:+0100
TZNAME:CET
DTSTART:20261025T010000
END:STANDARD
END:VTIMEZONE
BEGIN:VEVENT
DTSTART;TZID=Europe/Berlin:20260425T160000
DTEND;TZID=Europe/Berlin:20260425T180000
DTSTAMP:20260424T140746
CREATED:20221216T120303Z
LAST-MODIFIED:20251212T153723Z
UID:578-1777132800-1777140000@acn-lahnstein.de
SUMMARY:Treffen der ACN Meeresfischer
DESCRIPTION:Die Teilnahme an diesem Treffen ist für eine Teilnahme beim ACN-Meeresfischen und einer Bezuschussung zwingend.
URL:https://acn-lahnstein.de/event/treffen-der-acn-meeresfischer/
LOCATION:Anglerheim Lahnstein\, Auf Ahl 4\, Lahnstein\, 56112
CATEGORIES:ACN
END:VEVENT
BEGIN:VEVENT
DTSTART;TZID=Europe/Berlin:20260425T180000
DTEND;TZID=Europe/Berlin:20260425T190000
DTSTAMP:20260424T140746
CREATED:20210313T144615Z
LAST-MODIFIED:20251212T153755Z
UID:219-1777140000-1777143600@acn-lahnstein.de
SUMMARY:Vorstandssitzung
DESCRIPTION:
URL:https://acn-lahnstein.de/event/vorstandssitzung/
LOCATION:Anglerheim Lahnstein\, Auf Ahl 4\, Lahnstein\, 56112
CATEGORIES:ACN
END:VEVENT
BEGIN:VEVENT
DTSTART;TZID=Europe/Berlin:20260425T190000
DTEND;TZID=Europe/Berlin:20260425T210000
DTSTAMP:20260424T140746
CREATED:20221206T172102Z
LAST-MODIFIED:20251212T153835Z
UID:558-1777143600-1777150800@acn-lahnstein.de
SUMMARY:Jahreshauptversammlung des ACN
DESCRIPTION:
URL:https://acn-lahnstein.de/event/jahreshauptversammlung-2/
LOCATION:Anglerheim Lahnstein\, Auf Ahl 4\, Lahnstein\, 56112
CATEGORIES:ACN
END:VEVENT
BEGIN:VEVENT
DTSTART;TZID=Europe/Berlin:20260530T120000
DTEND;TZID=Europe/Berlin:20260530T180000
DTSTAMP:20260424T140746
CREATED:20230511T170637Z
LAST-MODIFIED:20251227T115050Z
UID:909-1780142400-1780164000@acn-lahnstein.de
SUMMARY:Anfischen
DESCRIPTION:Ausschreibung_Anfischen \n 
URL:https://acn-lahnstein.de/event/anfischen/
LOCATION:Anglerheim Lahnstein\, Auf Ahl 4\, Lahnstein\, 56112
CATEGORIES:ACN
END:VEVENT
BEGIN:VEVENT
DTSTART;TZID=Europe/Berlin:20260606T160000
DTEND;TZID=Europe/Berlin:20260606T220000
DTSTAMP:20260424T140746
CREATED:20231204T164927Z
LAST-MODIFIED:20251227T115143Z
UID:1079-1780761600-1780783200@acn-lahnstein.de
SUMMARY:Sommerfest mit Tombola
DESCRIPTION:
URL:https://acn-lahnstein.de/event/sommerfest-mit-tombola/
LOCATION:Anglerheim Lahnstein\, Auf Ahl 4\, Lahnstein\, 56112
CATEGORIES:ACN
END:VEVENT
BEGIN:VEVENT
DTSTART;TZID=Europe/Berlin:20260613T070000
DTEND;TZID=Europe/Berlin:20260613T120000
DTSTAMP:20260424T140746
CREATED:20210313T144250Z
LAST-MODIFIED:20251227T115313Z
UID:209-1781334000-1781352000@acn-lahnstein.de
SUMMARY:Franz Häusner Fischen
DESCRIPTION:Ausschreibung_Haeusnerfischen
URL:https://acn-lahnstein.de/event/franz-haeusner-fischen/
LOCATION:Anglerheim Lahnstein\, Auf Ahl 4\, Lahnstein\, 56112
CATEGORIES:ACN
END:VEVENT
BEGIN:VEVENT
DTSTART;TZID=Europe/Berlin:20260627T070000
DTEND;TZID=Europe/Berlin:20260627T120000
DTSTAMP:20260424T140746
CREATED:20210313T143820Z
LAST-MODIFIED:20251227T115403Z
UID:199-1782543600-1782561600@acn-lahnstein.de
SUMMARY:Mittelfischen
DESCRIPTION:Ausschreibung_Mittelfischen
URL:https://acn-lahnstein.de/event/mittelfischen/
LOCATION:Anglerheim Lahnstein\, Auf Ahl 4\, Lahnstein\, 56112
CATEGORIES:ACN
END:VEVENT
BEGIN:VEVENT
DTSTART;VALUE=DATE:20260701
DTEND;VALUE=DATE:20260721
DTSTAMP:20260424T140746
CREATED:20241224T101345Z
LAST-MODIFIED:20251227T115522Z
UID:1318-1782864000-1784591999@acn-lahnstein.de
SUMMARY:Meeresfischen auf der Insel Froya
DESCRIPTION:
URL:https://acn-lahnstein.de/event/meeresfischen-auf-den-lofoten/
LOCATION:Froya\, Froya\, Norway
CATEGORIES:ACN,BSV
END:VEVENT
BEGIN:VEVENT
DTSTART;TZID=Europe/Berlin:20260724T180000
DTEND;TZID=Europe/Berlin:20260724T210000
DTSTAMP:20260424T140746
CREATED:20210313T143859Z
LAST-MODIFIED:20251227T115603Z
UID:201-1784916000-1784926800@acn-lahnstein.de
SUMMARY:Vorstandssitzung am Anglerheim
DESCRIPTION:
URL:https://acn-lahnstein.de/event/vorstandssitzung-am-anglerheim/
LOCATION:Anglerheim Lahnstein\, Auf Ahl 4\, Lahnstein\, 56112
CATEGORIES:ACN
END:VEVENT
BEGIN:VEVENT
DTSTART;TZID=Europe/Berlin:20260815T140000
DTEND;TZID=Europe/Berlin:20260815T210000
DTSTAMP:20260424T140746
CREATED:20210313T143956Z
LAST-MODIFIED:20251227T115711Z
UID:203-1786802400-1786827600@acn-lahnstein.de
SUMMARY:Mitternachtsfischen ( Teil 1 )
DESCRIPTION:Ausschreibung_Mitternachtsfischen
URL:https://acn-lahnstein.de/event/mitternachtsfischen-teil-1/
LOCATION:Anglerheim Lahnstein\, Auf Ahl 4\, Lahnstein\, 56112
CATEGORIES:ACN
END:VEVENT
BEGIN:VEVENT
DTSTART;TZID=Europe/Berlin:20260816T060000
DTEND;TZID=Europe/Berlin:20260816T120000
DTSTAMP:20260424T140746
CREATED:20210313T144103Z
LAST-MODIFIED:20251227T115756Z
UID:205-1786860000-1786881600@acn-lahnstein.de
SUMMARY:Mitternachtsfischen ( Teil 2 )
DESCRIPTION:Ausschreibung_Mitternachtsfischen
URL:https://acn-lahnstein.de/event/mitternachtsfischen-teil-2/
LOCATION:Anglerheim Lahnstein\, Auf Ahl 4\, Lahnstein\, 56112
CATEGORIES:ACN
END:VEVENT
BEGIN:VEVENT
DTSTART;TZID=Europe/Berlin:20260821T180000
DTEND;TZID=Europe/Berlin:20260821T220000
DTSTAMP:20260424T140746
CREATED:20221206T173225Z
LAST-MODIFIED:20251227T115831Z
UID:567-1787335200-1787349600@acn-lahnstein.de
SUMMARY:Sommerfest Vorstand Stadtverband Lahnsteiner Angelvereine
DESCRIPTION:Es ergeht eine gesonderte Einladung
URL:https://acn-lahnstein.de/event/sommerfest-vorstand-stadtverband-lahnsteiner-angelvereine/
CATEGORIES:ACN
END:VEVENT
BEGIN:VEVENT
DTSTART;TZID=Europe/Berlin:20260822T090000
DTEND;TZID=Europe/Berlin:20260822T120000
DTSTAMP:20260424T140746
CREATED:20250504T085027Z
LAST-MODIFIED:20251227T115917Z
UID:1390-1787389200-1787400000@acn-lahnstein.de
SUMMARY:Damenfischen
DESCRIPTION:Ausschreibung_Damenfischen
URL:https://acn-lahnstein.de/event/damenfischen/
LOCATION:Wolle’s Angelrevier\, Vallendar\, CM2C+R6\, Vallendar\, Rheinland-Pfalz\, 56179\, Germany
CATEGORIES:ACN
END:VEVENT
BEGIN:VEVENT
DTSTART;TZID=Europe/Berlin:20260829T080000
DTEND;TZID=Europe/Berlin:20260829T120000
DTSTAMP:20260424T140746
CREATED:20211122T143004Z
LAST-MODIFIED:20251227T120000Z
UID:375-1787990400-1788004800@acn-lahnstein.de
SUMMARY:Tandemfischen
DESCRIPTION:Ausschreibung_Tandemfischen
URL:https://acn-lahnstein.de/event/tandemfischen/
LOCATION:Anglerheim Lahnstein\, Auf Ahl 4\, Lahnstein\, 56112
CATEGORIES:ACN
END:VEVENT
BEGIN:VEVENT
DTSTART;TZID=Europe/Berlin:20260905T080000
DTEND;TZID=Europe/Berlin:20260905T170000
DTSTAMP:20260424T140746
CREATED:20231204T165614Z
LAST-MODIFIED:20251227T120030Z
UID:1086-1788595200-1788627600@acn-lahnstein.de
SUMMARY:Vorstandsklausur
DESCRIPTION:Es ergeht eine gesonderte Einladung
URL:https://acn-lahnstein.de/event/vorstandsklausur-2/
END:VEVENT
BEGIN:VEVENT
DTSTART;TZID=Europe/Berlin:20260919T120000
DTEND;TZID=Europe/Berlin:20260919T180000
DTSTAMP:20260424T140746
CREATED:20210313T144424Z
LAST-MODIFIED:20251227T120105Z
UID:213-1789819200-1789840800@acn-lahnstein.de
SUMMARY:Abfischen
DESCRIPTION:Ausschreibung_Abfischen
URL:https://acn-lahnstein.de/event/abfischen/
LOCATION:Anglerheim Lahnstein\, Auf Ahl 4\, Lahnstein\, 56112
CATEGORIES:ACN
END:VEVENT
BEGIN:VEVENT
DTSTART;TZID=Europe/Berlin:20261004T100000
DTEND;TZID=Europe/Berlin:20261004T160000
DTSTAMP:20260424T140746
CREATED:20210313T144536Z
LAST-MODIFIED:20251227T120157Z
UID:217-1791108000-1791129600@acn-lahnstein.de
SUMMARY:Lochfischen an der Schleuse Niederlahnstein
DESCRIPTION:Ausschreibung_Lochfischen
URL:https://acn-lahnstein.de/event/lochfischen/
LOCATION:Schleuse Niederlahnstein\, Zur Schleuse\, Lahnstein\, 56112\, Deutschland
CATEGORIES:ACN
END:VEVENT
BEGIN:VEVENT
DTSTART;TZID=Europe/Berlin:20261120T190000
DTEND;TZID=Europe/Berlin:20261120T230000
DTSTAMP:20260424T140746
CREATED:20210313T144350Z
LAST-MODIFIED:20251227T120225Z
UID:211-1795201200-1795215600@acn-lahnstein.de
SUMMARY:ACN Vorstandssitzung
DESCRIPTION:Es ergeht eine gesonderte Einladung
URL:https://acn-lahnstein.de/event/vorstandsklausur/
LOCATION:Anglerheim Lahnstein\, Auf Ahl 4\, Lahnstein\, 56112
CATEGORIES:ACN
END:VEVENT
BEGIN:VEVENT
DTSTART;TZID=Europe/Berlin:20261122T100000
DTEND;TZID=Europe/Berlin:20261122T120000
DTSTAMP:20260424T140746
CREATED:20210313T144653Z
LAST-MODIFIED:20251227T120308Z
UID:221-1795341600-1795348800@acn-lahnstein.de
SUMMARY:ACN-Totenehrung
DESCRIPTION:
URL:https://acn-lahnstein.de/event/totenehrung/
LOCATION:Alter Friedhof Niederlahnstein\, Allerheiligenbergstraße\, Lahnstein\, 56112\, Deutschland
CATEGORIES:ACN
END:VEVENT
BEGIN:VEVENT
DTSTART;TZID=Europe/Berlin:20261124T190000
DTEND;TZID=Europe/Berlin:20261124T210000
DTSTAMP:20260424T140746
CREATED:20211122T143609Z
LAST-MODIFIED:20251227T120331Z
UID:378-1795546800-1795554000@acn-lahnstein.de
SUMMARY:Vorstandssitzung des Stadtverbands der Lahnsteiner Angelvereine
DESCRIPTION:
URL:https://acn-lahnstein.de/event/vorstandssitzung-der-lahnsteiner-angelvereine-2/
CATEGORIES:ACN
END:VEVENT
END:VCALENDAR